{"text_format":"1","workbook":"xlsx","n_sheets":7,"sheets":["APROV 1","Gráfica APROV 1","APROV 2 y 3","Gráfica APROV 2 Y 3","Gráfica Promedios Finales","MATRICULA","NORMALIDAD MÍNIMA"],"not_rendered":{"charts":4,"images":0,"macros":1,"external_links":0,"defined_names":1,"comments":0,"pivot_tables":0},"unopened":[],"bounds":{"document_bytes":16777216,"sheet_cells":100000,"rows_first":2000,"rows_last":500,"rows_between":2000,"halvings":0,"cell_chars":16384,"cell_head_chars":4096},"cells_cut":0,"cells_raw":0,"read":"whole","date_system":"1900"}

{"sheet":"APROV 1","index":0,"n_rows":25,"n_cols":36,"rows_kept":25,"cut":false,"hidden":false,"merged":[[24,0,26,33],[0,0,0,35],[1,0,1,35],[2,0,2,35],[4,0,4,35],[6,0,6,35],[11,19,11,21],[12,19,12,21],[13,19,13,21],[10,13,10,15],[11,13,11,15],[12,13,12,15],[13,13,13,15],[13,16,13,18],[17,34,17,35],[11,25,11,27],[12,25,12,27],[14,10,14,12],[17,19,17,21],[17,28,17,30],[16,25,16,33],[16,34,16,35],[16,0,16,24],[13,25,13,27],[17,1,17,3],[17,0,18,0],[17,4,17,6],[17,7,17,9],[17,10,17,12],[17,13,17,15],[17,16,17,18],[17,31,17,33],[14,16,14,18],[14,19,14,21],[14,25,14,27],[17,22,17,24],[17,25,17,27],[9,0,10,0],[9,1,9,3],[9,4,9,6],[9,7,9,9],[9,10,9,12],[9,13,9,15],[9,16,9,18],[9,31,9,33],[9,25,9,27],[10,25,10,27],[10,16,10,18],[9,22,9,24],[10,22,10,24],[3,0,3,61],[9,34,9,35],[9,19,9,21],[10,19,10,21],[8,25,8,33],[8,34,8,35],[8,0,8,24],[14,1,14,3],[10,4,10,6],[11,4,11,6],[12,4,12,6],[13,4,13,6],[14,4,14,6],[10,1,10,3],[11,1,11,3],[12,1,12,3],[13,1,13,3],[12,7,12,9],[13,7,13,9],[10,7,10,9],[11,7,11,9],[11,10,11,12],[12,10,12,12],[13,10,13,12],[11,16,11,18],[14,13,14,15],[14,31,14,33],[10,34,10,35],[11,34,11,35],[12,34,12,35],[13,34,13,35],[14,34,14,35],[10,31,10,33],[11,31,11,33],[12,31,12,33],[13,31,13,33],[12,16,12,18],[14,7,14,9],[10,10,10,12],[14,22,14,24],[9,28,9,30],[10,28,10,30],[11,28,11,30],[12,28,12,30],[13,28,13,30],[14,28,14,30],[11,22,11,24],[12,22,12,24],[13,22,13,24]]}
["SECRETARÍA DE EDUCACIÓN PÚBLICA DEL ESTADO DE BAJA CALIFORNIA SUR"]
["DIRECCIÓN DE EDUCACIÓN SECUNDARIA"]
["CICLO ESCOLAR 2019 - 2020"]
[]
["APROVECHAMIENTO Y RIESGO DE NO ACREDITAR"]
[]
["DIRECCIÓN: EDUCACIÓN SECUNDARIA    DIRECTOR: PROFR. RUMUALDO RAMÍREZ GUTIERRÉZ     PERIODO DE EVALUACIÓN:  1ER. PERIODO"]
[null,null,null,null,null,null,null,null,null,null,null,null,null,null,null,null," "]
["Promedio de Aprovechamiento de los Campos de Formación Académica",null,null,null,null,null,null,null,null,null,null,null,null,null,null,null,null,null,null,null,null,null,null,null,null,"Promedio de Aprovechamiento de las Áreas de Desarrollo Personal y Social"]
["Modalidad","Lengua Materna (Español)",null,null,"Lengua Extranjera (Inglés)",null,null,"Matemáticas",null,null,"Ciencias (Biología)",null,null,"Historia",null,null,"Geografía",null,null,"Formación Cívica y Ética",null,null,"Educación Tecnológica",null,null,"Artes",null,null,"Educación Física",null,null,"Tutoría y Educación Socioemocional",null,null,"Prom. Final"]
[null,"CALIF",null,null,"CALIF",null,null,"CALIF",null,null,"CALIF",null,null,"CALIF",null,null,"CALIF",null,null,"CALIF",null,null,"CALIF",null,null,"CALIF",null,null,"CALIF",null,null,"CALIF",null,null,"CALIF"]
["Grales.",8.4,null,null,8.4,null,null,8.1999999999999993,null,null,8.5,null,null,8.5,null,null,8.6,null,null,8.6999999999999993,null,null,8.9,null,null,9.1,null,null,9.5,null,null,null,null,null,{"$f":"IFERROR(ROUND(AVERAGE(B12:AH12),1),\"\")","v":8.6999999999999993}]
["Técs.",8.3000000000000007,null,null,8.3000000000000007,null,null,8.1,null,null,8.1999999999999993,null,null,8.1999999999999993,null,null,8.4,null,null,8.4,null,null,8.6,null,null,9,null,null,9.4,null,null,null,null,null,8.5]
["Telesec.",8.1999999999999993,null,null,8.1999999999999993,null,null,8,null,null,8.4,null,null,8.1999999999999993,null,null,8.1999999999999993,null,null,8.5,null,null,9.1999999999999993,null,null,9.1,null,null,9.5,null,null,null,null,null,8.6]
["Gral.",{"$f":"IFERROR(ROUND(AVERAGE(B12:D14),1),\"\")","v":8.3000000000000007},null,null,{"$f":"IFERROR(ROUND(AVERAGE(E12:G14),1),\"\")","v":8.3000000000000007},null,null,{"$f":"IFERROR(ROUND(AVERAGE(H12:J14),1),\"\")","v":8.1},null,null,{"$f":"IFERROR(ROUND(AVERAGE(K12:M14),1),\"\")","v":8.4},null,null,{"$f":"IFERROR(ROUND(AVERAGE(N12:P14),1),\"\")","v":8.3000000000000007},null,null,{"$f":"IFERROR(ROUND(AVERAGE(Q12:S14),1),\"\")","v":8.4},null,null,{"$f":"IFERROR(ROUND(AVERAGE(T12:V14),1),\"\")","v":8.5},null,null,{"$f":"IFERROR(ROUND(AVERAGE(W12:Y14),1),\"\")","v":8.9},null,null,{"$f":"IFERROR(ROUND(AVERAGE(Z12:AB14),1),\"\")","v":9.1},null,null,{"$f":"IFERROR(ROUND(AVERAGE(AC12:AE14),1),\"\")","v":9.5},null,null,{"$f":"IFERROR(ROUND(AVERAGE(AF12:AH14),1),\"\")","v":""},null,null,{"$f":"IFERROR(ROUND(AVERAGE(AI12:AJ14),1),\"\")","v":8.6}]
[]
["Campos de Formación Académica en riesgo de no acreditar",null,null,null,null,null,null,null,null,null,null,null,null,null,null,null,null,null,null,null,null,null,null,null,null,"Áreas de Desarrollo Personal y Social en riesgo de no acreditar"]
["Modalidad","Lengua Materna (Español)",null,null,"Lengua Extranjera (Inglés)",null,null,"Matemáticas",null,null,"Ciencias (Biología)",null,null,"Historia",null,null,"Geografía",null,null,"Formación Cívica y Ética",null,null,"Educación Tecnológica",null,null,"Artes",null,null,"Educación Física",null,null,"Tutoría y Educación Socioemocional",null,null,"Total"]
[null,5,6,"T",5,6,"T",5,6,"T",5,6,"T",5,6,"T",5,6,"T",5,6,"T",5,6,"T",5,6,"T",5,6,"T",5,6,"T",5,6]
["Grales.",218,581,{"$f":"IF(SUM(B20,C20)=0,\"\",SUM(B20,C20))","v":799},274,495,{"$f":"IF(SUM(E20,F20)=0,\"\",SUM(E20,F20))","v":769},355,761,{"$f":"IF(SUM(H20,I20)=0,\"\",SUM(H20,I20))","v":1116},203,433,{"$f":"IF(SUM(K20,L20)=0,\"\",SUM(K20,L20))","v":636},221,527,{"$f":"IF(SUM(N20,O20)=0,\"\",SUM(N20,O20))","v":748},136,399,{"$f":"IF(SUM(Q20,R20)=0,\"\",SUM(Q20,R20))","v":535},117,441,{"$f":"IF(SUM(T20,U20)=0,\"\",SUM(T20,U20))","v":558},183,303,{"$f":"IF(SUM(W20,X20)=0,\"\",SUM(W20,X20))","v":486},68,378,{"$f":"IF(SUM(Z20,AA20)=0,\"\",SUM(Z20,AA20))","v":446},18,59,{"$f":"IF(SUM(AC20,AD20)=0,\"\",SUM(AC20,AD20))","v":77},null,null,{"$f":"IF(SUM(AF20,AG20)=0,\"\",SUM(AF20,AG20))","v":""},{"$f":"IF(SUM(B20,E20,H20,K20,N20,Q20,T20,W20,Z20,AC20,AF20)=0,\"\",SUM(B20,E20,H20,K20,N20,Q20,T20,W20,Z20,AC20,AF20))","v":1793},{"$f":"IF(SUM(C20,F20,I20,L20,O20,R20,U20,X20,AA20,AD20,AG20)=0,\"\",SUM(C20,F20,I20,L20,O20,R20,U20,X20,AA20,AD20,AG20))","v":4377}]
["Técs.",191,461,{"$f":"IF(SUM(B21,C21)=0,\"\",SUM(B21,C21))","v":652},261,464,{"$f":"IF(SUM(E21,F21)=0,\"\",SUM(E21,F21))","v":725},196,585,{"$f":"IF(SUM(H21,I21)=0,\"\",SUM(H21,I21))","v":781},251,546,{"$f":"IF(SUM(K21,L21)=0,\"\",SUM(K21,L21))","v":797},232,653,{"$f":"IF(SUM(N21,O21)=0,\"\",SUM(N21,O21))","v":885},147,420,{"$f":"IF(SUM(Q21,R21)=0,\"\",SUM(Q21,R21))","v":567},244,474,{"$f":"IF(SUM(T21,U21)=0,\"\",SUM(T21,U21))","v":718},116,293,{"$f":"IF(SUM(W21,X21)=0,\"\",SUM(W21,X21))","v":409},135,252,{"$f":"IF(SUM(Z21,AA21)=0,\"\",SUM(Z21,AA21))","v":387},38,81,{"$f":"IF(SUM(AC21,AD21)=0,\"\",SUM(AC21,AD21))","v":119},null,null,{"$f":"IF(SUM(AF21,AG21)=0,\"\",SUM(AF21,AG21))","v":""},{"$f":"IF(SUM(B21,E21,H21,K21,N21,Q21,T21,W21,Z21,AC21,AF21)=0,\"\",SUM(B21,E21,H21,K21,N21,Q21,T21,W21,Z21,AC21,AF21))","v":1811},{"$f":"IF(SUM(C21,F21,I21,L21,O21,R21,U21,X21,AA21,AD21,AG21)=0,\"\",SUM(C21,F21,I21,L21,O21,R21,U21,X21,AA21,AD21,AG21))","v":4229}]
["Telesec.",87,162,249,83,143,226,94,207,301,70,157,227,81,204,285,74,195,269,70,122,192,27,45,72,34,69,103,13,21,34,null,null,"",633,1325]
["Total",{"$f":"IF(SUM(B20:B22)=0,\"\",SUM(B20:B22))","v":496},{"$f":"IF(SUM(C20:C22)=0,\"\",SUM(C20:C22))","v":1204},{"$f":"IF(SUM(D20:D22)=0,\"\",SUM(D20:D22))","v":1700},{"$f":"IF(SUM(E20:E22)=0,\"\",SUM(E20:E22))","v":618},{"$f":"IF(SUM(F20:F22)=0,\"\",SUM(F20:F22))","v":1102},{"$f":"IF(SUM(G20:G22)=0,\"\",SUM(G20:G22))","v":1720},{"$f":"IF(SUM(H20:H22)=0,\"\",SUM(H20:H22))","v":645},{"$f":"IF(SUM(I20:I22)=0,\"\",SUM(I20:I22))","v":1553},{"$f":"IF(SUM(J20:J22)=0,\"\",SUM(J20:J22))","v":2198},{"$f":"IF(SUM(K20:K22)=0,\"\",SUM(K20:K22))","v":524},{"$f":"IF(SUM(L20:L22)=0,\"\",SUM(L20:L22))","v":1136},{"$f":"IF(SUM(M20:M22)=0,\"\",SUM(M20:M22))","v":1660},{"$f":"IF(SUM(N20:N22)=0,\"\",SUM(N20:N22))","v":534},{"$f":"IF(SUM(O20:O22)=0,\"\",SUM(O20:O22))","v":1384},{"$f":"IF(SUM(P20:P22)=0,\"\",SUM(P20:P22))","v":1918},{"$f":"IF(SUM(Q20:Q22)=0,\"\",SUM(Q20:Q22))","v":357},{"$f":"IF(SUM(R20:R22)=0,\"\",SUM(R20:R22))","v":1014},{"$f":"IF(SUM(S20:S22)=0,\"\",SUM(S20:S22))","v":1371},{"$f":"IF(SUM(T20:T22)=0,\"\",SUM(T20:T22))","v":431},{"$f":"IF(SUM(U20:U22)=0,\"\",SUM(U20:U22))","v":1037},{"$f":"IF(SUM(V20:V22)=0,\"\",SUM(V20:V22))","v":1468},{"$f":"IF(SUM(W20:W22)=0,\"\",SUM(W20:W22))","v":326},{"$f":"IF(SUM(X20:X22)=0,\"\",SUM(X20:X22))","v":641},{"$f":"IF(SUM(Y20:Y22)=0,\"\",SUM(Y20:Y22))","v":967},{"$f":"IF(SUM(Z20:Z22)=0,\"\",SUM(Z20:Z22))","v":237},{"$f":"IF(SUM(AA20:AA22)=0,\"\",SUM(AA20:AA22))","v":699},{"$f":"IF(SUM(AB20:AB22)=0,\"\",SUM(AB20:AB22))","v":936},{"$f":"IF(SUM(AC20:AC22)=0,\"\",SUM(AC20:AC22))","v":69},{"$f":"IF(SUM(AD20:AD22)=0,\"\",SUM(AD20:AD22))","v":161},{"$f":"IF(SUM(AE20:AE22)=0,\"\",SUM(AE20:AE22))","v":230},{"$f":"IF(SUM(AF20:AF22)=0,\"\",SUM(AF20:AF22))","v":""},{"$f":"IF(SUM(AG20:AG22)=0,\"\",SUM(AG20:AG22))","v":""},{"$f":"IF(SUM(AH20:AH22)=0,\"\",SUM(AH20:AH22))","v":""},{"$f":"IF(SUM(AI20:AI22)=0,\"\",SUM(AI20:AI22))","v":4237},{"$f":"IF(SUM(AJ20:AJ22)=0,\"\",SUM(AJ20:AJ22))","v":9931}]
[]
["Nota: Para las columnas \"Campos de Formación Académica y Áreas de Desarrollo Personal y Social en riesgo de no acreditar\" registre la cantidad de cincos o seis que existen en cada campo o área."]

{"sheet":"Gráfica APROV 1","index":1,"n_rows":2,"n_cols":12,"rows_kept":2,"cut":false,"hidden":false,"merged":[]}
[null,"Lengua Materna (Español)","Lengua Extranjera (Inglés)","Matemáticas","Ciencias (Biología)","Historia","Geografía","Formación Cívica y Ética","Educación Tecnológica","Artes","Educación Física","Tutoría y Educación Socioemocional"]
[null,{"$f":"'APROV 1'!B15:D15","v":8.3000000000000007},{"$f":"'APROV 1'!E15","v":8.3000000000000007},{"$f":"'APROV 1'!H15","v":8.1},{"$f":"'APROV 1'!K15","v":8.4},{"$f":"'APROV 1'!N15","v":8.3000000000000007},{"$f":"'APROV 1'!Q15","v":8.4},{"$f":"'APROV 1'!T15","v":8.5},{"$f":"'APROV 1'!W15","v":8.9},{"$f":"'APROV 1'!Z15","v":9.1},{"$f":"'APROV 1'!AC15","v":9.5},{"$f":"'APROV 1'!AF15","v":""}]

{"sheet":"APROV 2 y 3","index":2,"n_rows":52,"n_cols":33,"rows_kept":52,"cut":false,"hidden":false,"merged":[[2,0,2,32],[4,0,4,32],[6,0,6,32],[28,0,28,32],[29,0,29,32],[30,0,30,32],[32,0,32,32],[34,0,34,32],[51,0,53,32],[42,16,42,18],[42,22,42,24],[38,10,38,12],[39,10,39,12],[40,10,40,12],[41,10,41,12],[42,10,42,12],[42,19,42,21],[41,19,41,21],[45,31,45,32],[38,28,38,30],[39,28,39,30],[40,28,40,30],[41,28,41,30],[42,31,42,32],[38,31,38,32],[39,31,39,32],[40,31,40,32],[41,31,41,32],[3,0,3,60],[9,31,9,32],[9,0,10,0],[9,1,9,3],[9,4,9,6],[9,7,9,9],[9,10,9,12],[9,13,9,15],[9,28,9,30],[10,31,10,32],[9,19,9,21],[10,1,10,3],[10,7,10,9],[10,28,10,30],[9,16,9,18],[10,16,10,18],[10,19,10,21],[0,0,0,32],[1,0,1,32],[38,7,38,9],[39,7,39,9],[40,7,40,9],[41,7,41,9],[42,28,42,30],[42,13,42,15],[37,1,37,3],[37,4,37,6],[38,13,38,15],[39,13,39,15],[40,13,40,15],[37,7,37,9],[40,16,40,18],[41,16,41,18],[45,0,46,0],[45,1,45,3],[45,4,45,6],[45,7,45,9],[45,10,45,12],[45,13,45,15],[45,28,45,30],[41,13,41,15],[17,16,17,18],[17,22,17,24],[17,10,17,12],[17,19,17,21],[17,25,17,27],[16,22,16,30],[16,31,16,32],[16,0,16,21],[17,13,17,15],[17,28,17,30],[11,1,11,3],[12,1,12,3],[13,1,13,3],[10,4,10,6],[11,4,11,6],[12,4,12,6],[13,4,13,6],[11,7,11,9],[12,7,12,9],[13,7,13,9],[14,10,14,12],[10,13,10,15],[11,13,11,15],[12,13,12,15],[13,13,13,15],[14,13,14,15],[10,10,10,12],[11,10,11,12],[12,10,12,12],[13,10,13,12],[11,28,11,30],[12,28,12,30],[13,28,13,30],[45,16,45,18],[45,22,45,24],[37,22,37,24],[38,22,38,24],[39,22,39,24],[40,22,40,24],[41,22,41,24],[37,16,37,18],[38,16,38,18],[39,16,39,18],[37,10,37,12],[37,13,37,15],[37,28,37,30],[37,0,38,0],[42,4,42,6],[42,1,42,3],[42,7,42,9],[38,4,38,6],[39,4,39,6],[14,19,14,21],[14,22,14,24],[37,31,37,32],[14,1,14,3],[11,16,11,18],[12,16,12,18],[13,16,13,18],[8,22,8,30],[8,31,8,32],[8,0,8,21],[9,22,9,24],[10,22,10,24],[11,22,11,24],[12,22,12,24],[13,22,13,24],[9,25,9,27],[11,31,11,32],[12,31,12,32],[13,31,13,32],[10,25,10,27],[11,25,11,27],[12,25,12,27],[13,25,13,27],[40,19,40,21],[14,25,14,27],[24,0,26,32],[11,19,11,21],[12,19,12,21],[13,19,13,21],[14,16,14,18],[40,4,40,6],[41,4,41,6],[17,31,17,32],[14,28,14,30],[14,31,14,32],[14,4,14,6],[14,7,14,9],[31,0,31,60],[17,0,18,0],[17,1,17,3],[17,4,17,6],[17,7,17,9],[38,1,38,3],[39,1,39,3],[40,1,40,3],[41,1,41,3],[42,25,42,27],[36,22,36,30],[36,31,36,32],[36,0,36,21],[45,19,45,21],[45,25,45,27],[44,22,44,30],[44,31,44,32],[44,0,44,21],[37,25,37,27],[38,25,38,27],[39,25,39,27],[40,25,40,27],[41,25,41,27],[37,19,37,21],[38,19,38,21],[39,19,39,21]]}
["SECRETARÍA DE EDUCACIÓN PÚBLICA DEL ESTADO DE BAJA CALIFORNIA SUR"]
["DIRECCIÓN DE EDUCACIÓN SECUNDARIA"]
["CICLO ESCOLAR 2019 - 2020"]
[]
["APROVECHAMIENTO Y RIESGO DE NO ACREDITAR"]
[]
["DIRECCIÓN: EDUCACIÓN SECUNDARIA    DIRECTOR: PROFR. RUMUALDO RAMÍREZ GUTIERRÉZ     PERIODO DE EVALUACIÓN:  1ER. PERIODO"]
[]
["Promedio de Aprovechamiento de los Campos de Formación Académica",null,null,null,null,null,null,null,null,null,null,null,null,null,null,null,null,null,null,null,null,null,"Promedio de Aprovechamiento de las Áreas de Desarrollo Personal y Social"]
["Modalidad","Español II",null,null,"Segunda Lengua Inglés II",null,null,"Matemáticas II",null,null,"Ciencias II (Física)",null,null,"Historia I",null,null,"Formación Cívica y Ética I",null,null,"Educación Tecnológica",null,null,"Artes",null,null,"Educación Física",null,null,"Tutoría y Educación Socioemocional",null,null,"Prom. Final"]
[null,"CALIF",null,null,"CALIF",null,null,"CALIF",null,null,"CALIF",null,null,"CALIF",null,null,"CALIF",null,null,"CALIF",null,null,"CALIF",null,null,"CALIF",null,null,"CALIF",null,null,"CALIF"]
["Grales.",8.3000000000000007,null,null,8.4,null,null,8.1999999999999993,null,null,8.3000000000000007,null,null,8.5,null,null,8.6,null,null,8.9,null,null,9.1,null,null,9.4,null,null,null,null,null,{"$f":"IFERROR(ROUND(AVERAGE(B12:AE12),1),\"\")","v":8.6}]
["Técs.",8.1,null,null,8.1,null,null,7.8,null,null,8.1,null,null,8.1999999999999993,null,null,8.3000000000000007,null,null,8.4,null,null,8.6999999999999993,null,null,9.4,null,null,null,null,null,8.3000000000000007]
["Telesec.",8,null,null,7.9,null,null,7.8,null,null,8,null,null,8.1,null,null,8.3000000000000007,null,null,8.8000000000000007,null,null,8.8000000000000007,null,null,9.1,null,null,null,null,null,8.3000000000000007]
["Gral.",{"$f":"IFERROR(ROUND(AVERAGE(B12:D14),1),\"\")","v":8.1},null,null,{"$f":"IFERROR(ROUND(AVERAGE(E12:G14),1),\"\")","v":8.1},null,null,{"$f":"IFERROR(ROUND(AVERAGE(H12:J14),1),\"\")","v":7.9},null,null,{"$f":"IFERROR(ROUND(AVERAGE(K12:M14),1),\"\")","v":8.1},null,null,{"$f":"IFERROR(ROUND(AVERAGE(N12:P14),1),\"\")","v":8.3000000000000007},null,null,{"$f":"IFERROR(ROUND(AVERAGE(Q12:S14),1),\"\")","v":8.4},null,null,{"$f":"IFERROR(ROUND(AVERAGE(T12:V14),1),\"\")","v":8.6999999999999993},null,null,{"$f":"IFERROR(ROUND(AVERAGE(W12:Y14),1),\"\")","v":8.9},null,null,{"$f":"IFERROR(ROUND(AVERAGE(Z12:AB14),1),\"\")","v":9.3000000000000007},null,null,{"$f":"IFERROR(ROUND(AVERAGE(AC12:AE14),1),\"\")","v":""},null,null,{"$f":"IFERROR(ROUND(AVERAGE(AF12:AG14),1),\"\")","v":8.4}]
[]
["Campos de Formación Académica en situacion de riesgo de no acreditar",null,null,null,null,null,null,null,null,null,null,null,null,null,null,null,null,null,null,null,null,null,"Áreas de Desarrollo Personal y Social en situacion de riesgo de no acreditar"]
["Modalidad","Español II",null,null,"Segunda Lengua Inglés II",null,null,"Matemáticas II",null,null,"Ciencias II (Física)",null,null,"Historia I",null,null,"Formación Cívica y Ética I",null,null,"Educación Tecnológica",null,null,"Artes",null,null,"Educación Física",null,null,"Tutoría y Educación Socioemocional",null,null,"Total"]
[null,5,6,"T",5,6,"T",5,6,"T",5,6,"T",5,6,"T",5,6,"T",5,6,"T",5,6,"T",5,6,"T",5,6,"T",5,6]
["Grales.",208,616,{"$f":"IF(SUM(B20,C20)=0,\"\",SUM(B20,C20))","v":824},208,556,{"$f":"IF(SUM(E20,F20)=0,\"\",SUM(E20,F20))","v":764},212,665,{"$f":"IF(SUM(H20,I20)=0,\"\",SUM(H20,I20))","v":877},245,642,{"$f":"IF(SUM(K20,L20)=0,\"\",SUM(K20,L20))","v":887},204,591,{"$f":"IF(SUM(N20,O20)=0,\"\",SUM(N20,O20))","v":795},175,476,{"$f":"IF(SUM(Q20,R20)=0,\"\",SUM(Q20,R20))","v":651},197,339,{"$f":"IF(SUM(T20,U20)=0,\"\",SUM(T20,U20))","v":536},85,292,{"$f":"IF(SUM(W20,X20)=0,\"\",SUM(W20,X20))","v":377},45,96,{"$f":"IF(SUM(Z20,AA20)=0,\"\",SUM(Z20,AA20))","v":141},null,null,{"$f":"IF(SUM(AC20,AD20)=0,\"\",SUM(AC20,AD20))","v":""},{"$f":"IF(SUM(B20,E20,H20,K20,N20,Q20,T20,W20,Z20,AC20)=0,\"\",SUM(B20,E20,H20,K20,N20,Q20,T20,W20,Z20,AC20))","v":1579},{"$f":"IF(SUM(C20,F20,I20,L20,O20,R20,U20,X20,AA20,AD20)=0,\"\",SUM(C20,F20,I20,L20,O20,R20,U20,X20,AA20,AD20))","v":4273}]
["Técs.",239,496,735,379,422,801,280,694,974,226,477,703,235,491,726,239,357,596,149,336,485,136,317,453,53,74,127,null,null,"",{"$f":"IF(SUM(B21,E21,H21,K21,N21,Q21,T21,W21,Z21,AC21)=0,\"\",SUM(B21,E21,H21,K21,N21,Q21,T21,W21,Z21,AC21))","v":1936},{"$f":"IF(SUM(C21,F21,I21,L21,O21,R21,U21,X21,AA21,AD21)=0,\"\",SUM(C21,F21,I21,L21,O21,R21,U21,X21,AA21,AD21))","v":3664}]
["Telesec.",71,130,201,70,142,212,92,176,268,64,140,204,74,126,200,56,94,150,46,66,112,35,52,87,13,17,30,null,null,"",521,943]
["Total",{"$f":"IF(SUM(B20:B22)=0,\"\",SUM(B20:B22))","v":518},{"$f":"IF(SUM(C20:C22)=0,\"\",SUM(C20:C22))","v":1242},{"$f":"IF(SUM(D20:D22)=0,\"\",SUM(D20:D22))","v":1760},{"$f":"IF(SUM(E20:E22)=0,\"\",SUM(E20:E22))","v":657},{"$f":"IF(SUM(F20:F22)=0,\"\",SUM(F20:F22))","v":1120},{"$f":"IF(SUM(G20:G22)=0,\"\",SUM(G20:G22))","v":1777},{"$f":"IF(SUM(H20:H22)=0,\"\",SUM(H20:H22))","v":584},{"$f":"IF(SUM(I20:I22)=0,\"\",SUM(I20:I22))","v":1535},{"$f":"IF(SUM(J20:J22)=0,\"\",SUM(J20:J22))","v":2119},{"$f":"IF(SUM(K20:K22)=0,\"\",SUM(K20:K22))","v":535},{"$f":"IF(SUM(L20:L22)=0,\"\",SUM(L20:L22))","v":1259},{"$f":"IF(SUM(M20:M22)=0,\"\",SUM(M20:M22))","v":1794},{"$f":"IF(SUM(N20:N22)=0,\"\",SUM(N20:N22))","v":513},{"$f":"IF(SUM(O20:O22)=0,\"\",SUM(O20:O22))","v":1208},{"$f":"IF(SUM(P20:P22)=0,\"\",SUM(P20:P22))","v":1721},{"$f":"IF(SUM(Q20:Q22)=0,\"\",SUM(Q20:Q22))","v":470},{"$f":"IF(SUM(R20:R22)=0,\"\",SUM(R20:R22))","v":927},{"$f":"IF(SUM(S20:S22)=0,\"\",SUM(S20:S22))","v":1397},{"$f":"IF(SUM(T20:T22)=0,\"\",SUM(T20:T22))","v":392},{"$f":"IF(SUM(U20:U22)=0,\"\",SUM(U20:U22))","v":741},{"$f":"IF(SUM(V20:V22)=0,\"\",SUM(V20:V22))","v":1133},{"$f":"IF(SUM(W20:W22)=0,\"\",SUM(W20:W22))","v":256},{"$f":"IF(SUM(X20:X22)=0,\"\",SUM(X20:X22))","v":661},{"$f":"IF(SUM(Y20:Y22)=0,\"\",SUM(Y20:Y22))","v":917},{"$f":"IF(SUM(Z20:Z22)=0,\"\",SUM(Z20:Z22))","v":111},{"$f":"IF(SUM(AA20:AA22)=0,\"\",SUM(AA20:AA22))","v":187},{"$f":"IF(SUM(AB20:AB22)=0,\"\",SUM(AB20:AB22))","v":298},{"$f":"IF(SUM(AC20:AC22)=0,\"\",SUM(AC20:AC22))","v":""},{"$f":"IF(SUM(AD20:AD22)=0,\"\",SUM(AD20:AD22))","v":""},{"$f":"IF(SUM(AE20:AE22)=0,\"\",SUM(AE20:AE22))","v":""},{"$f":"IF(SUM(AF20:AF22)=0,\"\",SUM(AF20:AF22))","v":4036},{"$f":"IF(SUM(AG20:AG22)=0,\"\",SUM(AG20:AG22))","v":8880}]
[]
["Nota: Para las columnas \"Campos de Formación Académica y Áreas de Desarrollo Personal y Social en riesgo de no acreditar\" registre la cantidad de cincos o seis que existen en cada campo o área."]
[]
[]
[]
["SECRETARÍA DE EDUCACIÓN PÚBLICA DEL ESTADO DE BAJA CALIFORNIA SUR"]
["DIRECCIÓN DE EDUCACIÓN SECUNDARIA"]
["CICLO ESCOLAR 2019 - 2020"]
[]
["APROVECHAMIENTO Y RIESGO DE NO ACREDITAR"]
[]
["DIRECCIÓN: EDUCACIÓN SECUNDARIA    DIRECTOR: PROFR. RUMUALDO RAMÍREZ GUTIERRÉZ     PERIODO DE EVALUACIÓN:  1ER. PERIODO"]
[]
["Promedio de Aprovechamiento de los Campos de Formación Académica",null,null,null,null,null,null,null,null,null,null,null,null,null,null,null,null,null,null,null,null,null,"Promedio de Aprovechamiento de las Áreas de Desarrollo Personal y Social"]
["Modalidad","Español III",null,null,"Segunda Lengua Inglés III",null,null,"Matemáticas III",null,null,"Ciencias III (Química)",null,null,"Historia II",null,null,"Formación Cívica y Ética II",null,null,"Educación Tecnológica",null,null,"Artes",null,null,"Educación Física",null,null,"Tutoría y Educación Socioemocional",null,null,"Prom. Final"]
[null,"CALIF",null,null,"CALIF",null,null,"CALIF",null,null,"CALIF",null,null,"CALIF",null,null,"CALIF",null,null,"CALIF",null,null,"CALIF",null,null,"CALIF",null,null,"CALIF",null,null,"CALIF"]
["Grales.",8.4,null,null,8.4,null,null,8.1999999999999993,null,null,8.3000000000000007,null,null,8.6,null,null,8.6,null,null,8.9,null,null,9.1,null,null,9.4,null,null,null,null,null,{"$f":"IFERROR(ROUND(AVERAGE(B40:AE40),1),\"\")","v":8.6999999999999993}]
["Técs.",8.1999999999999993,null,null,8.1,null,null,7.9,null,null,8.1,null,null,8.1,null,null,8.4,null,null,8.5,null,null,8.9,null,null,9.1999999999999993,null,null,null,null,null,8.4]
["Telesec.",8.3000000000000007,null,null,8.1,null,null,8,null,null,8.1999999999999993,null,null,8.1999999999999993,null,null,8.5,null,null,9.1,null,null,9.1,null,null,9.3000000000000007,null,null,null,null,null,8.5]
["Gral.",{"$f":"IFERROR(ROUND(AVERAGE(B40:D42),1),\"\")","v":8.3000000000000007},null,null,{"$f":"IFERROR(ROUND(AVERAGE(E40:G42),1),\"\")","v":8.1999999999999993},null,null,{"$f":"IFERROR(ROUND(AVERAGE(H40:J42),1),\"\")","v":8},null,null,{"$f":"IFERROR(ROUND(AVERAGE(K40:M42),1),\"\")","v":8.1999999999999993},null,null,{"$f":"IFERROR(ROUND(AVERAGE(N40:P42),1),\"\")","v":8.3000000000000007},null,null,{"$f":"IFERROR(ROUND(AVERAGE(Q40:S42),1),\"\")","v":8.5},null,null,{"$f":"IFERROR(ROUND(AVERAGE(T40:V42),1),\"\")","v":8.8000000000000007},null,null,{"$f":"IFERROR(ROUND(AVERAGE(W40:Y42),1),\"\")","v":9},null,null,{"$f":"IFERROR(ROUND(AVERAGE(Z40:AB42),1),\"\")","v":9.3000000000000007},null,null,{"$f":"IFERROR(ROUND(AVERAGE(AC40:AE42),1),\"\")","v":""},null,null,{"$f":"IFERROR(ROUND(AVERAGE(AF40:AG42),1),\"\")","v":8.5}]
[]
["Campos de Formación Académica en situacion de riesgo de no acreditar",null,null,null,null,null,null,null,null,null,null,null,null,null,null,null,null,null,null,null,null,null,"Áreas de Desarrollo Personal y Social en situacion de riesgo de no acreditar"]
["Modalidad","Español III",null,null,"Segunda Lengua Inglés III",null,null,"Matemáticas III",null,null,"Ciencias III (Química)",null,null,"Historia II",null,null,"Formación Cívica y Ética II",null,null,"Educación Tecnológica",null,null,"Artes",null,null,"Educación Física",null,null,"Tutoría y Educación Socioemocional",null,null,"Total"]
[null,5,6,"T",5,6,"T",5,6,"T",5,6,"T",5,6,"T",5,6,"T",5,6,"T",5,6,"T",5,6,"T",5,6,"T",5,6]
["Grales.",239,599,{"$f":"IF(SUM(B48,C48)=0,\"\",SUM(B48,C48))","v":838},226,550,{"$f":"IF(SUM(E48,F48)=0,\"\",SUM(E48,F48))","v":776},284,553,{"$f":"IF(SUM(H48,I48)=0,\"\",SUM(H48,I48))","v":837},323,564,{"$f":"IF(SUM(K48,L48)=0,\"\",SUM(K48,L48))","v":887},242,507,{"$f":"IF(SUM(N48,O48)=0,\"\",SUM(N48,O48))","v":749},210,437,{"$f":"IF(SUM(Q48,R48)=0,\"\",SUM(Q48,R48))","v":647},173,273,{"$f":"IF(SUM(T48,U48)=0,\"\",SUM(T48,U48))","v":446},127,316,{"$f":"IF(SUM(W48,X48)=0,\"\",SUM(W48,X48))","v":443},52,92,{"$f":"IF(SUM(Z48,AA48)=0,\"\",SUM(Z48,AA48))","v":144},null,null,{"$f":"IF(SUM(AC48,AD48)=0,\"\",SUM(AC48,AD48))","v":""},{"$f":"IF(SUM(B48,E48,H48,K48,N48,Q48,T48,W48,Z48,AC48)=0,\"\",SUM(B48,E48,H48,K48,N48,Q48,T48,W48,Z48,AC48))","v":1876},{"$f":"IF(SUM(C48,F48,I48,L48,O48,R48,U48,X48,AA48,AD48)=0,\"\",SUM(C48,F48,I48,L48,O48,R48,U48,X48,AA48,AD48))","v":3891}]
["Técs.",231,465,{"$f":"IF(SUM(B49,C49)=0,\"\",SUM(B49,C49))","v":696},349,568,{"$f":"IF(SUM(E49,F49)=0,\"\",SUM(E49,F49))","v":917},359,740,{"$f":"IF(SUM(H49,I49)=0,\"\",SUM(H49,I49))","v":1099},388,417,{"$f":"IF(SUM(K49,L49)=0,\"\",SUM(K49,L49))","v":805},335,491,{"$f":"IF(SUM(N49,O49)=0,\"\",SUM(N49,O49))","v":826},213,504,717,191,318,509,163,260,423,28,72,100,null,null,"",{"$f":"IF(SUM(B49,E49,H49,K49,N49,Q49,T49,W49,Z49,AC49)=0,\"\",SUM(B49,E49,H49,K49,N49,Q49,T49,W49,Z49,AC49))","v":2257},{"$f":"IF(SUM(C49,F49,I49,L49,O49,R49,U49,X49,AA49,AD49)=0,\"\",SUM(C49,F49,I49,L49,O49,R49,U49,X49,AA49,AD49))","v":3835}]
["Telesec.",36,146,182,47,166,213,57,180,237,48,147,195,46,140,186,40,80,120,21,45,66,23,57,80,5,16,21,null,null,"",323,977]
["Total",{"$f":"IF(SUM(B48:B50)=0,\"\",SUM(B48:B50))","v":506},{"$f":"IF(SUM(C48:C50)=0,\"\",SUM(C48:C50))","v":1210},{"$f":"IF(SUM(D48:D50)=0,\"\",SUM(D48:D50))","v":1716},{"$f":"IF(SUM(E48:E50)=0,\"\",SUM(E48:E50))","v":622},{"$f":"IF(SUM(F48:F50)=0,\"\",SUM(F48:F50))","v":1284},{"$f":"IF(SUM(G48:G50)=0,\"\",SUM(G48:G50))","v":1906},{"$f":"IF(SUM(H48:H50)=0,\"\",SUM(H48:H50))","v":700},{"$f":"IF(SUM(I48:I50)=0,\"\",SUM(I48:I50))","v":1473},{"$f":"IF(SUM(J48:J50)=0,\"\",SUM(J48:J50))","v":2173},{"$f":"IF(SUM(K48:K50)=0,\"\",SUM(K48:K50))","v":759},{"$f":"IF(SUM(L48:L50)=0,\"\",SUM(L48:L50))","v":1128},{"$f":"IF(SUM(M48:M50)=0,\"\",SUM(M48:M50))","v":1887},{"$f":"IF(SUM(N48:N50)=0,\"\",SUM(N48:N50))","v":623},{"$f":"IF(SUM(O48:O50)=0,\"\",SUM(O48:O50))","v":1138},{"$f":"IF(SUM(P48:P50)=0,\"\",SUM(P48:P50))","v":1761},{"$f":"IF(SUM(Q48:Q50)=0,\"\",SUM(Q48:Q50))","v":463},{"$f":"IF(SUM(R48:R50)=0,\"\",SUM(R48:R50))","v":1021},{"$f":"IF(SUM(S48:S50)=0,\"\",SUM(S48:S50))","v":1484},{"$f":"IF(SUM(T48:T50)=0,\"\",SUM(T48:T50))","v":385},{"$f":"IF(SUM(U48:U50)=0,\"\",SUM(U48:U50))","v":636},{"$f":"IF(SUM(V48:V50)=0,\"\",SUM(V48:V50))","v":1021},{"$f":"IF(SUM(W48:W50)=0,\"\",SUM(W48:W50))","v":313},{"$f":"IF(SUM(X48:X50)=0,\"\",SUM(X48:X50))","v":633},{"$f":"IF(SUM(Y48:Y50)=0,\"\",SUM(Y48:Y50))","v":946},{"$f":"IF(SUM(Z48:Z50)=0,\"\",SUM(Z48:Z50))","v":85},{"$f":"IF(SUM(AA48:AA50)=0,\"\",SUM(AA48:AA50))","v":180},{"$f":"IF(SUM(AB48:AB50)=0,\"\",SUM(AB48:AB50))","v":265},{"$f":"IF(SUM(AC48:AC50)=0,\"\",SUM(AC48:AC50))","v":""},{"$f":"IF(SUM(AD48:AD50)=0,\"\",SUM(AD48:AD50))","v":""},{"$f":"IF(SUM(AE48:AE50)=0,\"\",SUM(AE48:AE50))","v":""},{"$f":"IF(SUM(AF48:AF50)=0,\"\",SUM(AF48:AF50))","v":4456},{"$f":"IF(SUM(AG48:AG50)=0,\"\",SUM(AG48:AG50))","v":8703}]
["Nota: Para las columnas \"Campos de Formación Académica y Áreas de Desarrollo Personal y Social en riesgo de no acreditar\" registre la cantidad de cincos o seis que existen en cada campo o área."]

{"sheet":"Gráfica APROV 2 Y 3","index":3,"n_rows":37,"n_cols":11,"rows_kept":37,"cut":false,"hidden":false,"merged":[]}
[]
[null,"Español II","Segunda Lengua Inglés II","Matemáticas II","Ciencias II (Física)","Historia I","Formación Cívica y Ética I","Educación Tecnológica","Artes","Educación Física","Tutoría y Educación Socioemocional"]
[null,{"$f":"'APROV 2 y 3'!B15","v":8.1},{"$f":"'APROV 2 y 3'!E15","v":8.1},{"$f":"'APROV 2 y 3'!H15","v":7.9},{"$f":"'APROV 2 y 3'!K15","v":8.1},{"$f":"'APROV 2 y 3'!N15","v":8.3000000000000007},{"$f":"'APROV 2 y 3'!Q15","v":8.4},{"$f":"'APROV 2 y 3'!T15","v":8.6999999999999993},{"$f":"'APROV 2 y 3'!W15","v":8.9},{"$f":"'APROV 2 y 3'!Z15","v":9.3000000000000007},{"$f":"'APROV 2 y 3'!AC15","v":""}]
[]
[]
[]
[]
[]
[]
[]
[]
[]
[]
[]
[]
[]
[]
[]
[]
[]
[]
[]
[]
[]
[]
[]
[]
[]
[]
[]
[]
[]
[]
[]
[]
[null,"Español III","Segunda Lengua Inglés III","Matemáticas III","Ciencias III (Química)","Historia II","Formación Cívica y Ética II","Educación Tecnológica","Artes","Educación Física","Tutoría y Educación Socioemocional"]
[null,{"$f":"'APROV 2 y 3'!B43","v":8.3000000000000007},{"$f":"'APROV 2 y 3'!E43","v":8.1999999999999993},{"$f":"'APROV 2 y 3'!H43","v":8},{"$f":"'APROV 2 y 3'!K43","v":8.1999999999999993},{"$f":"'APROV 2 y 3'!N43","v":8.3000000000000007},{"$f":"'APROV 2 y 3'!Q43","v":8.5},{"$f":"'APROV 2 y 3'!T43","v":8.8000000000000007},{"$f":"'APROV 2 y 3'!W43","v":9},{"$f":"'APROV 2 y 3'!Z43","v":9.3000000000000007},{"$f":"'APROV 2 y 3'!AC43","v":""}]

{"sheet":"Gráfica Promedios Finales","index":4,"n_rows":11,"n_cols":4,"rows_kept":11,"cut":false,"hidden":false,"merged":[]}
[]
[]
[]
[]
[]
[]
[]
[]
[]
[null,"PROMEDIO 1RO","PROMEDIO 2DO","PROMEDIO 3ERO"]
[null,{"$f":"+'APROV 1'!AI15","v":8.6},{"$f":"+'APROV 2 y 3'!AF15","v":8.4},{"$f":"+'APROV 2 y 3'!AF43","v":8.5}]

{"sheet":"MATRICULA","index":5,"n_rows":38,"n_cols":37,"rows_kept":38,"cut":false,"hidden":false,"merged":[[9,16,9,18],[9,19,9,21],[9,22,9,24],[23,0,26,0],[23,1,23,24],[7,0,10,0],[7,1,7,24],[8,1,8,12],[8,13,8,24],[9,1,9,3],[9,4,9,6],[9,7,9,9],[9,10,9,12],[9,13,9,15],[23,25,24,36],[24,1,24,12],[24,13,24,24],[25,1,25,3],[25,4,25,6],[25,25,25,27],[25,28,25,30],[25,31,25,33],[25,34,25,36],[25,7,25,9],[25,10,25,12],[25,13,25,15],[25,16,25,18],[25,19,25,21],[25,22,25,24],[5,0,5,39],[0,0,0,39],[1,0,1,39],[2,0,2,39],[3,0,3,39]]}
["SECRETARÍA DE EDUCACIÓN PÚBLICA DEL ESTADO DE BAJA CALIFORNIA SUR"]
["DIRECCIÓN DE EDUCACIÓN SECUNDARIA"]
["CICLO ESCOLAR 2019 - 2020"]
["MATRÍCULA"]
[]
["DIRECCIÓN: EDUCACIÓN SECUNDARIA    DIRECTOR: PROFR. RUMUALDO RAMÍREZ GUTIERRÉZ     PERIODO DE EVALUACIÓN:  1ER. PERIODO"]
[]
["Modalidad","MATRÍCULA"]
[null,"INSCRIPCIÓN INICIAL ",null,null,null,null,null,null,null,null,null,null,null,"CAMBIOS DESDE OTRAS ESCUELAS (ALTAS)"]
[null,"PRIMERO",null,null,"SEGUNDO",null,null,"TERCERO",null,null,"TOTAL",null,null,"PRIMERO",null,null,"SEGUNDO",null,null,"TERCERO",null,null,"TOTAL"]
[null,"H","M","T","H","M","T","H","M","T","H","M","T","H","M","T","H","M","T","H","M","T","H","M","T"]
["Grales.",3463,3430,{"$f":"IF(SUM(B12,C12)=0,\"\",SUM(B12,C12))","v":6893},3344,3163,{"$f":"IF(SUM(E12,F12)=0,\"\",SUM(E12,F12))","v":6507},3137,3074,{"$f":"IF(SUM(H12,I12)=0,\"\",SUM(H12,I12))","v":6211},{"$f":"IF(SUM(B12,E12,H12)=0,\"\",SUM(B12,E12,H12))","v":9944},{"$f":"IF(SUM(C12,F12,I12)=0,\"\",SUM(SUM(C12,F12,I12)))","v":9667},{"$f":"IF(SUM(K12,L12)=0,\"\",SUM(K12,L12))","v":19611},22,30,{"$f":"IF(SUM(N12,O12)=0,\"\",SUM(N12,O12))","v":52},20,19,{"$f":"IF(SUM(Q12,R12)=0,\"\",SUM(Q12,R12))","v":39},14,26,{"$f":"IF(SUM(T12,U12)=0,\"\",SUM(T12,U12))","v":40},{"$f":"IF(SUM(N12,Q12,T12)=0,\"\",SUM(N12,Q12,T12))","v":56},{"$f":"IF(SUM(O12,R12,U12)=0,\"\",SUM(SUM(O12,R12,U12)))","v":75},{"$f":"IF(SUM(W12,X12)=0,\"\",SUM(W12,X12))","v":131}]
["Técs.",2617,2501,{"$f":"IF(SUM(B13,C13)=0,\"\",SUM(B13,C13))","v":5118},2509,2516,{"$f":"IF(SUM(E13,F13)=0,\"\",SUM(E13,F13))","v":5025},2437,2406,{"$f":"IF(SUM(H13,I13)=0,\"\",SUM(H13,I13))","v":4843},{"$f":"IF(SUM(B13,E13,H13)=0,\"\",SUM(B13,E13,H13))","v":7563},{"$f":"IF(SUM(C13,F13,I13)=0,\"\",SUM(SUM(C13,F13,I13)))","v":7423},{"$f":"IF(SUM(K13,L13)=0,\"\",SUM(K13,L13))","v":14986},14,9,{"$f":"IF(SUM(N13,O13)=0,\"\",SUM(N13,O13))","v":23},12,10,{"$f":"IF(SUM(Q13,R13)=0,\"\",SUM(Q13,R13))","v":22},7,21,{"$f":"IF(SUM(T13,U13)=0,\"\",SUM(T13,U13))","v":28},{"$f":"IF(SUM(N13,Q13,T13)=0,\"\",SUM(N13,Q13,T13))","v":33},{"$f":"IF(SUM(O13,R13,U13)=0,\"\",SUM(SUM(O13,R13,U13)))","v":40},{"$f":"IF(SUM(W13,X13)=0,\"\",SUM(W13,X13))","v":73}]
["Telesec.",927,863,1790,790,718,1508,694,673,1367,2411,2254,4665,5,6,11,15,8,23,7,6,13,27,20,47]
[null,null,null,"",null,null,"",null,null,"","","","",null,null,"",null,null,"",null,null,"","","",""]
[null,null,null,"",null,null,"",null,null,"","","","",null,null,"",null,null,"",null,null,"","","",""]
[null,null,null,"",null,null,"",null,null,"","","","",null,null,"",null,null,"",null,null,"","","",""]
[null,null,null,"",null,null,"",null,null,"","","","",null,null,"",null,null,"",null,null,"","","",""]
[null,null,null,"",null,null,"",null,null,"","","","",null,null,"",null,null,"",null,null,"","","",""]
[null,null,null,{"$f":"IF(SUM(B20,C20)=0,\"\",SUM(B20,C20))","v":""},null,null,{"$f":"IF(SUM(E20,F20)=0,\"\",SUM(E20,F20))","v":""},null,null,{"$f":"IF(SUM(H20,I20)=0,\"\",SUM(H20,I20))","v":""},{"$f":"IF(SUM(B20,E20,H20)=0,\"\",SUM(B20,E20,H20))","v":""},{"$f":"IF(SUM(C20,F20,I20)=0,\"\",SUM(SUM(C20,F20,I20)))","v":""},{"$f":"IF(SUM(K20,L20)=0,\"\",SUM(K20,L20))","v":""},null,null,{"$f":"IF(SUM(N20,O20)=0,\"\",SUM(N20,O20))","v":""},null,null,{"$f":"IF(SUM(Q20,R20)=0,\"\",SUM(Q20,R20))","v":""},null,null,{"$f":"IF(SUM(T20,U20)=0,\"\",SUM(T20,U20))","v":""},{"$f":"IF(SUM(N20,Q20,T20)=0,\"\",SUM(N20,Q20,T20))","v":""},{"$f":"IF(SUM(O20,R20,U20)=0,\"\",SUM(SUM(O20,R20,U20)))","v":""},{"$f":"IF(SUM(W20,X20)=0,\"\",SUM(W20,X20))","v":""}]
[null,null,null,"",null,null,"",null,null,"","","","",null,null,"",null,null,"",null,null,"","","",""]
["TOTAL",{"$f":"IF(SUM(B12:B21)=0,\"\",SUM(B12:B21))","v":7007},{"$f":"IF(SUM(C12:C21)=0,\"\",SUM(C12:C21))","v":6794},13801,6643,6397,13040,6268,6153,12421,19918,19344,39262,41,45,86,47,37,84,28,53,81,116,135,251]
[]
["Modalidad","BAJAS",null,null,null,null,null,null,null,null,null,null,null,null,null,null,null,null,null,null,null,null,null,null,null,"EXISTENCIA"]
[null,"DESERCIÓN",null,null,null,null,null,null,null,null,null,null,null,"CAMBIOS HACIA OTRAS ESCUELAS (TRASLADOS)"]
[null,"PRIMERO",null,null,"SEGUNDO",null,null,"TERCERO",null,null,"TOTAL",null,null,"PRIMERO",null,null,"SEGUNDO",null,null,"TERCERO",null,null,"TOTAL",null,null,"PRIMERO",null,null,"SEGUNDO",null,null,"TERCERO",null,null,"TOTAL"]
[null,"H","M","T","H","M","T","H","M","T","H","M","T","H","M","T","H","M","T","H","M","T","H","M","T","H","M","T","H","M","T","H","M","T","H","M","T"]
["Grales.",22,22,{"$f":"IF(SUM(B28,C28)=0,\"\",SUM(B28,C28))","v":44},17,16,{"$f":"IF(SUM(E28,F28)=0,\"\",SUM(E28,F28))","v":33},16,17,{"$f":"IF(SUM(H28,I28)=0,\"\",SUM(H28,I28))","v":33},{"$f":"IF(SUM(B28,E28,H28)=0,\"\",SUM(B28,E28,H28))","v":55},{"$f":"IF(SUM(C28,F28,I28)=0,\"\",SUM(SUM(C28,F28,I28)))","v":55},{"$f":"IF(SUM(K28,L28)=0,\"\",SUM(K28,L28))","v":110},24,32,{"$f":"IF(SUM(N28,O28)=0,\"\",SUM(N28,O28))","v":56},34,27,{"$f":"IF(SUM(Q28,R28)=0,\"\",SUM(Q28,R28))","v":61},22,24,{"$f":"IF(SUM(T28,U28)=0,\"\",SUM(T28,U28))","v":46},{"$f":"IF(SUM(N28,Q28,T28)=0,\"\",SUM(N28,Q28,T28))","v":80},{"$f":"IF(SUM(O28,R28,U28)=0,\"\",SUM(SUM(O28,R28,U28)))","v":83},{"$f":"IF(SUM(W28,X28)=0,\"\",SUM(W28,X28))","v":163},{"$f":"IF(SUM(B12,N12-B28-N28)=0,\"\",SUM(B12,N12-B28-N28))","v":3439},{"$f":"IF(SUM(C12,O12-C28-O28)=0,\"\",SUM(C12,O12-C28-O28))","v":3406},{"$f":"IF(SUM(Z28,AA28)=0,\"\",SUM(Z28,AA28))","v":6845},{"$f":"IF(SUM(E12,Q12-E28-Q28)=0,\"\",SUM(E12,Q12-E28-Q28))","v":3313},{"$f":"IF(SUM(F12,R12-F28-R28)=0,\"\",SUM(F12,R12-F28-R28))","v":3139},{"$f":"IF(SUM(AC28,AD28)=0,\"\",SUM(AC28,AD28))","v":6452},{"$f":"IF(SUM(H12,T12-H28-T28)=0,\"\",SUM(H12,T12-H28-T28))","v":3113},{"$f":"IF(SUM(I12,U12-I28-U28)=0,\"\",SUM(I12,U12-I28-U28))","v":3059},{"$f":"IF(SUM(AF28,AG28)=0,\"\",SUM(AF28,AG28))","v":6172},{"$f":"IF(SUM(Z28,AC28,AF28)=0,\"\",SUM(Z28,AC28,AF28))","v":9865},{"$f":"IF(SUM(AA28,AD28,AG28)=0,\"\",SUM(SUM(AA28,AD28,AG28)))","v":9604},{"$f":"IF(SUM(AI28,AJ28)=0,\"\",SUM(AI28,AJ28))","v":19469}]
["Técs.",6,4,{"$f":"IF(SUM(B29,C29)=0,\"\",SUM(B29,C29))","v":10},3,2,{"$f":"IF(SUM(E29,F29)=0,\"\",SUM(E29,F29))","v":5},3,6,{"$f":"IF(SUM(H29,I29)=0,\"\",SUM(H29,I29))","v":9},{"$f":"IF(SUM(B29,E29,H29)=0,\"\",SUM(B29,E29,H29))","v":12},{"$f":"IF(SUM(C29,F29,I29)=0,\"\",SUM(SUM(C29,F29,I29)))","v":12},{"$f":"IF(SUM(K29,L29)=0,\"\",SUM(K29,L29))","v":24},23,22,{"$f":"IF(SUM(N29,O29)=0,\"\",SUM(N29,O29))","v":45},27,27,{"$f":"IF(SUM(Q29,R29)=0,\"\",SUM(Q29,R29))","v":54},16,23,{"$f":"IF(SUM(T29,U29)=0,\"\",SUM(T29,U29))","v":39},{"$f":"IF(SUM(N29,Q29,T29)=0,\"\",SUM(N29,Q29,T29))","v":66},{"$f":"IF(SUM(O29,R29,U29)=0,\"\",SUM(SUM(O29,R29,U29)))","v":72},{"$f":"IF(SUM(W29,X29)=0,\"\",SUM(W29,X29))","v":138},{"$f":"IF(SUM(B13,N13-B29-N29)=0,\"\",SUM(B13,N13-B29-N29))","v":2602},{"$f":"IF(SUM(C13,O13-C29-O29)=0,\"\",SUM(C13,O13-C29-O29))","v":2484},{"$f":"IF(SUM(Z29,AA29)=0,\"\",SUM(Z29,AA29))","v":5086},{"$f":"IF(SUM(E13,Q13-E29-Q29)=0,\"\",SUM(E13,Q13-E29-Q29))","v":2491},{"$f":"IF(SUM(F13,R13-F29-R29)=0,\"\",SUM(F13,R13-F29-R29))","v":2497},{"$f":"IF(SUM(AC29,AD29)=0,\"\",SUM(AC29,AD29))","v":4988},{"$f":"IF(SUM(H13,T13-H29-T29)=0,\"\",SUM(H13,T13-H29-T29))","v":2425},{"$f":"IF(SUM(I13,U13-I29-U29)=0,\"\",SUM(I13,U13-I29-U29))","v":2398},{"$f":"IF(SUM(AF29,AG29)=0,\"\",SUM(AF29,AG29))","v":4823},{"$f":"IF(SUM(Z29,AC29,AF29)=0,\"\",SUM(Z29,AC29,AF29))","v":7518},{"$f":"IF(SUM(AA29,AD29,AG29)=0,\"\",SUM(SUM(AA29,AD29,AG29)))","v":7379},{"$f":"IF(SUM(AI29,AJ29)=0,\"\",SUM(AI29,AJ29))","v":14897}]
["Telesec.",3,3,6,5,3,8,2,4,6,10,10,20,13,5,18,5,11,16,3,6,9,21,22,43,916,861,1777,795,712,1507,696,669,1365,2407,2242,4649]
[null,null,null,"",null,null,"",null,null,"","","","",null,null,"",null,null,"",null,null,"","","","","","","","","","","","","","","",""]
[null,null,null,"",null,null,"",null,null,"","","","",null,null,"",null,null,"",null,null,"","","","","","","","","","","","","","","",""]
[null,null,null,"",null,null,"",null,null,"","","","",null,null,"",null,null,"",null,null,"","","","","","","","","","","","","","","",""]
[null,null,null,"",null,null,"",null,null,"","","","",null,null,"",null,null,"",null,null,"","","","","","","","","","","","","","","",""]
[null,null,null,"",null,null,"",null,null,"","","","",null,null,"",null,null,"",null,null,"","","","","","","","","","","","","","","",""]
[null,null,null,{"$f":"IF(SUM(B36,C36)=0,\"\",SUM(B36,C36))","v":""},null,null,{"$f":"IF(SUM(E36,F36)=0,\"\",SUM(E36,F36))","v":""},null,null,{"$f":"IF(SUM(H36,I36)=0,\"\",SUM(H36,I36))","v":""},{"$f":"IF(SUM(B36,E36,H36)=0,\"\",SUM(B36,E36,H36))","v":""},{"$f":"IF(SUM(C36,F36,I36)=0,\"\",SUM(SUM(C36,F36,I36)))","v":""},{"$f":"IF(SUM(K36,L36)=0,\"\",SUM(K36,L36))","v":""},null,null,{"$f":"IF(SUM(N36,O36)=0,\"\",SUM(N36,O36))","v":""},null,null,{"$f":"IF(SUM(Q36,R36)=0,\"\",SUM(Q36,R36))","v":""},null,null,{"$f":"IF(SUM(T36,U36)=0,\"\",SUM(T36,U36))","v":""},{"$f":"IF(SUM(N36,Q36,T36)=0,\"\",SUM(N36,Q36,T36))","v":""},{"$f":"IF(SUM(O36,R36,U36)=0,\"\",SUM(SUM(O36,R36,U36)))","v":""},{"$f":"IF(SUM(W36,X36)=0,\"\",SUM(W36,X36))","v":""},"","",{"$f":"IF(SUM(Z36,AA36)=0,\"\",SUM(Z36,AA36))","v":""},"","",{"$f":"IF(SUM(AC36,AD36)=0,\"\",SUM(AC36,AD36))","v":""},"","",{"$f":"IF(SUM(AF36,AG36)=0,\"\",SUM(AF36,AG36))","v":""},{"$f":"IF(SUM(Z36,AC36,AF36)=0,\"\",SUM(Z36,AC36,AF36))","v":""},{"$f":"IF(SUM(AA36,AD36,AG36)=0,\"\",SUM(SUM(AA36,AD36,AG36)))","v":""},{"$f":"IF(SUM(AI36,AJ36)=0,\"\",SUM(AI36,AJ36))","v":""}]
[null,null,null,"",null,null,"",null,null,"","","","",null,null,"",null,null,"",null,null,"","","","","","","","","","","","","","","",""]
["TOTAL",{"$f":"IF(SUM(B28:B37)=0,\"\",SUM(B28:B37))","v":31},{"$f":"IF(SUM(C28:C37)=0,\"\",SUM(C28:C37))","v":29},60,25,21,46,21,27,48,77,77,154,60,59,119,66,65,131,41,53,94,167,177,344,6957,6751,13708,6599,6348,12947,6234,6126,12360,19790,19225,39015]

{"sheet":"NORMALIDAD MÍNIMA","index":6,"n_rows":55,"n_cols":17,"rows_kept":55,"cut":false,"hidden":false,"merged":[[54,1,54,9],[51,1,51,9],[51,10,51,15],[52,1,52,9],[52,10,52,15],[53,1,53,9],[53,10,53,15],[50,1,50,9],[50,10,50,15],[34,0,35,1],[34,2,34,4],[34,5,34,7],[34,8,35,8],[34,9,34,11],[34,12,34,13],[34,14,34,15],[48,1,48,3],[48,10,48,15],[49,1,49,9],[49,10,49,15],[5,12,5,13],[5,14,5,15],[18,0,18,16],[19,2,31,4],[19,5,19,7],[19,8,20,8],[19,9,19,11],[19,12,19,13],[19,14,19,15],[5,1,6,1],[5,2,5,4],[5,5,5,7],[5,8,6,8],[5,9,5,11],[19,1,20,1],[0,0,0,16],[1,0,1,16],[2,0,2,16],[3,0,3,16],[4,1,4,16]]}
["SECRETARÍA DE EDUCACIÓN PÚBLICA DEL ESTADO DE BAJA CALIFORNIA SUR"]
["DIRECCIÓN DE EDUCACIÓN SECUNDARIA"]
["CICLO ESCOLAR 2019 - 2020"]
["CONCENTRADO NORMALIDAD MÍNIMA"]
[null,"DIRECCIÓN: EDUCACIÓN SECUNDARIA    DIRECTOR: PROFR. RUMUALDO RAMÍREZ GUTIERRÉZ     PERIODO DE EVALUACIÓN:  1ER. PERIODO"]
[null,"Modalidad","DIRECTIVOS\n(Directores, subdirectores)",null,null,"COORDINADORES",null,null,"R","INASISTENCIAS",null,null,"LICENCIAS ECONÓMICAS",null,"LICENCIAS MÉDICAS",null,"TOTAL DE DÍAS NO LABORADOS"]
[null,null,"H","M","T","H","M","T",null,"I ","P.D.","D.N.L.I y P.D.","L.E."," D.N.L.E.","L.M.","D.N.L.M.","DNLI y PD, DNLE, DNLM"]
[null,"Grales.",66,55,{"$f":"IF(SUM(C8,D8)=0,\"\",SUM(C8,D8))","v":121},33,31,{"$f":"IF(SUM(F8,G8)=0,\"\",SUM(F8,G8))","v":64},5,3,18,{"$f":"IF(SUM(J8,K8)=0,\"\",SUM(J8,K8))","v":21},26,68,22,162,{"$f":"IF(SUM(L8,N8,P8)=0,\"\",SUM(L8,N8,P8))","v":251}]
[null,"Técs.",38,22,{"$f":"IF(SUM(C9,D9)=0,\"\",SUM(C9,D9))","v":60},31,26,{"$f":"IF(SUM(F9,G9)=0,\"\",SUM(F9,G9))","v":57},3,16,16,{"$f":"IF(SUM(J9,K9)=0,\"\",SUM(J9,K9))","v":32},54,112,15,152,{"$f":"IF(SUM(L9,N9,P9)=0,\"\",SUM(L9,N9,P9))","v":296}]
[null,"Telesec.",28,9,37,null,null,"",null,null,null,"",22,40,11,19,59]
[null,null,null,null,"",null,null,"",null,null,null,"",null,null,null,null,""]
[null,null,null,null,"",null,null,"",null,null,null,"",null,null,null,null,""]
[null,null,null,null,{"$f":"IF(SUM(C13,D13)=0,\"\",SUM(C13,D13))","v":""},null,null,{"$f":"IF(SUM(F13,G13)=0,\"\",SUM(F13,G13))","v":""},null,null,null,{"$f":"IF(SUM(J13,K13)=0,\"\",SUM(J13,K13))","v":""},null,null,null,null,""]
[null,null,null,null,"",null,null,"",null,null,null,"",null,null,null,null,""]
[null,null,null,null,"",null,null,"",null,null,null,"",null,null,null,null,""]
[null,null,null,null,"",null,null,"",null,null,null,"",null,null,null,null,""]
[null,null,null,null,"",null,null,"",null,null,null,"",null,null,null,null,{"$f":"IF(SUM(L17,N17,P17)=0,\"\",SUM(L17,N17,P17))","v":""}]
[null,"Total",{"$f":"IF(SUM(C8:C17)=0,\"\",SUM(C8:C17))","v":132},{"$f":"IF(SUM(D8:D17)=0,\"\",SUM(D8:D17))","v":86},218,64,57,121,8,19,34,53,102,220,48,333,606]
[]
["Zona escolar","Modalidad","PERSONAL  POR HORAS ",null,null,"DOCENTES",null,null,"R","INASISTENCIAS (Horas)",null,null,"LICENCIAS ECONÓMICAS",null,"LICENCIAS MÉDICAS",null,"TOTAL DE HORAS NO LABORADOS"]
[null,null,null,null,null,"H","M","T",null,"I ","P.D.","H.N.L.I y P.D.","L.E."," H.N.L.E.","L.M.","H.N.L.M.","HNLI y PD, HNLE, HNLM"]
[null,"Grales.",null,null,null,646,766,{"$f":"IF(SUM(F22,G22)=0,\"\",SUM(F22,G22))","v":1412},642,1232,563,{"$f":"IF(SUM(J22,K22)=0,\"\",SUM(J22,K22))","v":1795},525,4983,389,6172,{"$f":"IF(SUM(L22,N22,P22)=0,\"\",SUM(L22,N22,P22))","v":12950}]
[null,"Técs.",null,null,null,390,460,850,113,1517,517,{"$f":"IF(SUM(J23,K23)=0,\"\",SUM(J23,K23))","v":2034},432,4212,201,3518,{"$f":"IF(SUM(L23,N23,P23)=0,\"\",SUM(L23,N23,P23))","v":9764}]
[null,"Telesec.",null,null,null,148,113,261,null,10,6,16,134,851,28,278,1145]
[null,null,null,null,null,null,null,"",null,null,null,"",null,null,null,null,""]
[null,null,null,null,null,null,null,"",null,null,null,"",null,null,null,null,""]
[null,null,null,null,null,null,null,"",null,null,null,"",null,null,null,null,""]
[null,null,null,null,null,null,null,"",null,null,null,"",null,null,null,null,""]
[null,null,null,null,null,null,null,"",null,null,null,"",null,null,null,null,""]
[null,null,null,null,null,null,null,"",null,null,null,"",null,null,null,null,""]
[null,null,null,null,null,null,null,"",null,null,null,"",null,null,null,null,""]
[null,"Total",null,null,null,{"$f":"IF(SUM(F22:F31)=0,\"\",SUM(F22:F31))","v":1184},{"$f":"IF(SUM(G22:G31)=0,\"\",SUM(G22:G31))","v":1339},2523,755,2759,1086,3845,1091,10046,618,9968,23859]
[]
[]
["Modalidad",null,"ASISTENCIA EDUCATIVA\n(Psicólogos, trabajo social, médicos, USAER, prefectos)",null,null,"ADMINISTRATIVO Y DE APOYO",null,null,"R","INASISTENCIAS",null,null,"LICENCIAS ECONÓMICAS",null,"LICENCIAS MÉDICAS",null,"TOTAL DE DÍAS NO LABORADOS"]
[null,null,"H","M","T","H","M","T",null,"I ","P.D.","D.N.L.I y P.D.","L.E."," D.N.L.E.","L.M.","D.N.L.M.","DNLI y PD, DNLE, DNLM"]
[null,"Grales.",89,205,{"$f":"IF(SUM(C37,D37)=0,\"\",SUM(C37,D37))","v":294},251,286,{"$f":"IF(SUM(F37,G37)=0,\"\",SUM(F37,G37))","v":537},305,180,106,{"$f":"IF(SUM(J37,K37)=0,\"\",SUM(J37,K37))","v":286},440,1027,230,1360,{"$f":"IF(SUM(L37,N37,P37)=0,\"\",SUM(L37,N37,P37))","v":2673}]
[null,"Técs.",99,119,218,135,168,303,49,71,373,444,277,722,116,833,{"$f":"IF(SUM(L38,N38,P38)=0,\"\",SUM(L38,N38,P38))","v":1999}]
[null,"Telesec.",11,11,22,59,45,104,null,9,15,24,87,207,65,301,532]
[null,null,null,null,"",null,null,"",null,null,null,"",null,null,null,null,""]
[null,null,null,null,"",null,null,"",null,null,null,"",null,null,null,null,""]
[null,null,null,null,"",null,null,"",null,null,null,"",null,null,null,null,""]
[null,null,null,null,"",null,null,"",null,null,null,"",null,null,null,null,""]
[null,null,null,null,"",null,null,"",null,null,null,"",null,null,null,null,""]
[null,null,null,null,"",null,null,"",null,null,null,"",null,null,null,null,""]
[null,null,null,null,{"$f":"IF(SUM(C46,D46)=0,\"\",SUM(C46,D46))","v":""},null,null,{"$f":"IF(SUM(F46,G46)=0,\"\",SUM(F46,G46))","v":""},null,null,null,{"$f":"IF(SUM(J46,K46)=0,\"\",SUM(J46,K46))","v":""},null,null,null,null,""]
[null,"Total",{"$f":"IF(SUM(C37:C46)=0,\"\",SUM(C37:C46))","v":199},{"$f":"IF(SUM(D37:D46)=0,\"\",SUM(D37:D46))","v":335},534,445,499,944,354,260,494,754,804,1956,411,2494,5204]
[]
[null,"NOTA:",null,null,null,null,null,null,null,null,"NOTA:"]
[null,"I.: INASISTENCIAS",null,null,null,null,null,null,null,null,"H.N.L.E.: HORAS NO LABORADOS POR LICENCIAS ECONÓMICAS"]
[null,"H.N.L.I.: HORAS NO LABORADAS POR INASISTENCIAS",null,null,null,null,null,null,null,null,"D.N.L.E.:  DÍAS NO LABORADOS POR LICENCIAS ECONÓMICAS"]
[null,"D.N.L.I.: DÍAS NO LABORADOS POR INASISTENCIAS",null,null,null,null,null,null,null,null,"L.M.: PERSONAS QUE PRESENTARON LICENCIAS MÉDICAS"]
[null,"R. :  CANTIDAD DE RETARDOS",null,null,null,null,null,null,null,null,"H.N.L.M.: HORAS NO LABORADAS POR LICENCIAS MÉDICAS"]
[null,"L.E.:   PERSONAL QUE SOLICITÓ LICENCIAS ECONÓMICAS",null,null,null,null,null,null,null,null,"D.N.L.M.: DÍAS NO LABORADOS POR LICENCIAS MÉDICAS"]
[null,"P.D.: PERMISOS DIRECCIÓN"]